BEGIN:VCALENDAR
VERSION:2.0
PRODID:DPCALENDAR
CALSCALE:GREGORIAN
X-WR-TIMEZONE:UTC
BEGIN:VEVENT
DTSTART;TZID=UTC:20250406T100000
DTEND;TZID=UTC:20250406T120000
UID:FCDE9E66-AAA9-4F02-A27E-F64D2045161A
SUMMARY:Osterfloristik
CREATED:20250325T200646Z
DTSTAMP:20250325T200646Z
URL:https://gartenfreunde-west-rueckmarsdorf.de/index.php/kalender/osterfloristik-2
LAST-MODIFIED:20250325T200843Z
SEQUENCE:117
X-ACCESS:1
X-HITS:36
X-COLOR:ffaa00
X-SHOW-END-TIME:1
END:VEVENT
BEGIN:VEVENT
DTSTART;TZID=UTC:20250413T090000
DTEND;TZID=UTC:20250413T100000
UID:F8D06896-0815-4A8E-8E4F-AF45A4045E3B
SUMMARY:Sprechtag des Vorstandes
CREATED:20250325T193807Z
DTSTAMP:20250325T193807Z
URL:https://gartenfreunde-west-rueckmarsdorf.de/index.php/kalender/sprechtag-des-vorstandes
LAST-MODIFIED:20250325T193807Z
SEQUENCE:0
X-ACCESS:1
X-HITS:10
X-COLOR:ffffff
X-SHOW-END-TIME:1
END:VEVENT
BEGIN:VEVENT
DTSTART;TZID=UTC:20250503T100000
DTEND;TZID=UTC:20250503T120000
UID:EFB2A491-EBFE-4F36-86F8-44016AF3B14A
SUMMARY:Mitgliederversammlung
CREATED:20250325T200123Z
DTSTAMP:20250325T200123Z
URL:https://gartenfreunde-west-rueckmarsdorf.de/index.php/kalender/mitgliederversammlung
LAST-MODIFIED:20250325T200154Z
SEQUENCE:31
X-ACCESS:1
X-HITS:43
X-COLOR:fffb00
X-SHOW-END-TIME:1
END:VEVENT
BEGIN:VEVENT
DTSTART;TZID=UTC:20250503T130000
DTEND;TZID=UTC:20250503T160000
UID:1D19AC5F-11EE-468B-892F-410820AAE898
SUMMARY:Angrillen vor dem Vereinshaus/ Trödelmarkt
CREATED:20250325T201008Z
DTSTAMP:20250325T201008Z
URL:https://gartenfreunde-west-rueckmarsdorf.de/index.php/kalender/angrillen-vor-dem-vereinshaus-troedelmarkt
LAST-MODIFIED:20250325T201259Z
SEQUENCE:171
X-ACCESS:1
X-HITS:61
X-COLOR:ff9933
X-SHOW-END-TIME:1
END:VEVENT
BEGIN:VEVENT
DTSTART;TZID=UTC:20250511T090000
DTEND;TZID=UTC:20250511T100000
UID:0D65F0BA-3016-44FC-81A0-436740FDA3E6
SUMMARY:Sprechtag des Vorstandes
CREATED:20250325T193807Z
DTSTAMP:20250325T193807Z
URL:https://gartenfreunde-west-rueckmarsdorf.de/index.php/kalender/sprechtag-des-vorstandes-2
LAST-MODIFIED:20250325T195725Z
SEQUENCE:1158
X-ACCESS:1
X-HITS:14
X-COLOR:ffffff
X-SHOW-END-TIME:1
END:VEVENT
BEGIN:VEVENT
DTSTART;TZID=UTC:20250615T090000
DTEND;TZID=UTC:20250615T100000
UID:05EE7196-828D-426C-A103-8B822761E1A5
SUMMARY:Sprechtag des Vorstandes
CREATED:20250325T193807Z
DTSTAMP:20250325T193807Z
URL:https://gartenfreunde-west-rueckmarsdorf.de/index.php/kalender/sprechtag-des-vorstandes-3
LAST-MODIFIED:20250325T195747Z
SEQUENCE:1180
X-ACCESS:1
X-HITS:10
X-COLOR:ffffff
X-SHOW-END-TIME:1
END:VEVENT
BEGIN:VEVENT
DTSTART;TZID=UTC:20250713T090000
DTEND;TZID=UTC:20250713T100000
UID:58BDCB67-F40A-46A1-AD98-F11052DE6444
SUMMARY:Sprechtag des Vorstandes
CREATED:20250325T193807Z
DTSTAMP:20250325T193807Z
URL:https://gartenfreunde-west-rueckmarsdorf.de/index.php/kalender/sprechtag-des-vorstandes-4
LAST-MODIFIED:20250325T195811Z
SEQUENCE:1204
X-ACCESS:1
X-HITS:30
X-COLOR:ffffff
X-SHOW-END-TIME:1
END:VEVENT
BEGIN:VEVENT
DTSTART;TZID=UTC:20250817T090000
DTEND;TZID=UTC:20250817T100000
UID:AA907364-D3C7-4AB4-B6A7-EB2C13E712BB
SUMMARY:Sprechtag des Vorstandes
CREATED:20250325T193807Z
DTSTAMP:20250325T193807Z
URL:https://gartenfreunde-west-rueckmarsdorf.de/index.php/kalender/sprechtag-des-vorstandes-5
LAST-MODIFIED:20250325T195828Z
SEQUENCE:1221
X-ACCESS:1
X-HITS:20
X-COLOR:ffffff
X-SHOW-END-TIME:1
END:VEVENT
BEGIN:VEVENT
DTSTART;TZID=UTC:20250914T090000
DTEND;TZID=UTC:20250914T100000
UID:79D4865B-EAD2-4F02-8D42-15DAFB43F5E6
SUMMARY:Sprechtag des Vorstandes
CREATED:20250325T193807Z
DTSTAMP:20250325T193807Z
URL:https://gartenfreunde-west-rueckmarsdorf.de/index.php/kalender/sprechtag-des-vorstandes-6
LAST-MODIFIED:20250325T195848Z
SEQUENCE:1241
X-ACCESS:1
X-HITS:15
X-COLOR:ffffff
X-SHOW-END-TIME:1
END:VEVENT
BEGIN:VEVENT
DTSTART;TZID=UTC:20251012T090000
DTEND;TZID=UTC:20251012T100000
UID:7D3DC9E4-4158-4C5E-8A8A-7167A3F09603
SUMMARY:Sprechtag des Vorstandes
CREATED:20250325T193807Z
DTSTAMP:20250325T193807Z
URL:https://gartenfreunde-west-rueckmarsdorf.de/index.php/kalender/sprechtag-des-vorstandes-7
LAST-MODIFIED:20250325T195906Z
SEQUENCE:1259
X-ACCESS:1
X-HITS:109
X-COLOR:ffffff
X-SHOW-END-TIME:1
END:VEVENT
BEGIN:VEVENT
DTSTART;TZID=UTC:20251018T100000
DTEND;TZID=UTC:20251018T120000
UID:59DD668A-3C06-4FB2-9E61-868031A09712
SUMMARY:Mitgliederversammlung
CREATED:20250325T200123Z
DTSTAMP:20250325T200123Z
URL:https://gartenfreunde-west-rueckmarsdorf.de/index.php/kalender/mitgliederversammlung-2
LAST-MODIFIED:20250325T200332Z
SEQUENCE:129
X-ACCESS:1
X-HITS:158
X-COLOR:fffb00
X-SHOW-END-TIME:1
END:VEVENT
BEGIN:VEVENT
DTSTART;TZID=UTC:20251025T100000
DTEND;TZID=UTC:20251025T140000
UID:E2036903-1B60-4446-ACFE-6F01138B6731
SUMMARY:Zähler ablesen 1/2
CREATED:20250325T201931Z
DTSTAMP:20250325T201931Z
URL:https://gartenfreunde-west-rueckmarsdorf.de/index.php/kalender/zaehler-ablesen-1-2
LAST-MODIFIED:20250325T201931Z
SEQUENCE:0
X-ACCESS:1
X-HITS:164
X-COLOR:78b2fa
X-SHOW-END-TIME:1
END:VEVENT
BEGIN:VEVENT
DTSTART;TZID=UTC:20251026T100000
DTEND;TZID=UTC:20251026T120000
UID:16A17741-E0ED-4AF8-82DF-825EF321344F
SUMMARY:Zähler ablesen 2/2
CREATED:20250325T201931Z
DTSTAMP:20250325T201931Z
URL:https://gartenfreunde-west-rueckmarsdorf.de/index.php/kalender/zaehler-ablesen-2-2
LAST-MODIFIED:20250325T202047Z
SEQUENCE:76
X-ACCESS:1
X-HITS:171
X-COLOR:78b2fa
X-SHOW-END-TIME:1
END:VEVENT
BEGIN:VEVENT
DTSTART;TZID=UTC:20251101T100000
DTEND;TZID=UTC:20251101T130000
UID:3385B5E9-4E79-4D0D-A588-0225399575CD
SUMMARY:Annahme von Hecken- und Baumabschnitten *
CREATED:20250325T201556Z
DTSTAMP:20250325T201556Z
URL:https://gartenfreunde-west-rueckmarsdorf.de/index.php/kalender/annahme-von-hecken-und-baumabschnitten
DESCRIPTION:* Es erfolgt nur eine Annahme von Stämmen und Wurzeln. Es werden keine Grünabschnitte angenommen.
X-ALT-DESC;FMTTYPE=text/html:<p>* Es erfolgt nur eine Annahme von Stämmen und Wurzeln. Es werden keine Grünabschnitte angenommen.</p>
LAST-MODIFIED:20250929T222839Z
SEQUENCE:16251163
X-ACCESS:1
X-HITS:193
X-COLOR:a3ffac
X-SHOW-END-TIME:1
END:VEVENT
BEGIN:VEVENT
DTSTART;TZID=UTC:20251123T090000
DTEND;TZID=UTC:20251123T100000
UID:C546612B-DA3E-43F3-A9ED-0DC49ABC8E28
SUMMARY:Sprechtag des Vorstandes
CREATED:20250325T193807Z
DTSTAMP:20250325T193807Z
URL:https://gartenfreunde-west-rueckmarsdorf.de/index.php/kalender/sprechtag-des-vorstandes-8
LAST-MODIFIED:20250325T200015Z
SEQUENCE:1328
X-ACCESS:1
X-HITS:181
X-COLOR:ffffff
X-SHOW-END-TIME:1
END:VEVENT
BEGIN:VEVENT
DTSTART;TZID=UTC:20251130T100000
DTEND;TZID=UTC:20251130T120000
UID:837B5A22-6B1E-4A74-8826-E26C12683FDA
SUMMARY:Weihnachtsfloristik
CREATED:20250325T200646Z
DTSTAMP:20250325T200646Z
URL:https://gartenfreunde-west-rueckmarsdorf.de/index.php/kalender/weihnachtsfloristik
LAST-MODIFIED:20250325T202126Z
SEQUENCE:880
X-ACCESS:1
X-HITS:223
X-COLOR:ffaa00
X-SHOW-END-TIME:1
END:VEVENT
BEGIN:VEVENT
DTSTART;TZID=UTC:20251130T160000
DTEND;TZID=UTC:20251130T180000
UID:34704AAB-16F0-48FC-933C-2FA22F4A1BDB
SUMMARY:Kinderweihnachtsfeier
CREATED:20250325T200646Z
DTSTAMP:20250325T200646Z
URL:https://gartenfreunde-west-rueckmarsdorf.de/index.php/kalender/kinderweihnachtsfeier
LAST-MODIFIED:20250325T202354Z
SEQUENCE:1028
X-ACCESS:1
X-HITS:148
X-COLOR:ffaa00
X-SHOW-END-TIME:1
END:VEVENT
BEGIN:VEVENT
DTSTART;TZID=UTC:20251130T160000
DTEND;TZID=UTC:20251130T180000
UID:F29AC0A7-22FB-453F-BF34-F83E1E1C90A0
SUMMARY:Kinderweihnachtsfeier
CREATED:20250325T200646Z
DTSTAMP:20250325T200646Z
URL:https://gartenfreunde-west-rueckmarsdorf.de/index.php/kalender/kinderweihnachtsfeier-2
LAST-MODIFIED:20251228T173633Z
SEQUENCE:24010187
X-ACCESS:1
X-HITS:10
X-COLOR:ffaa00
X-SHOW-END-TIME:1
END:VEVENT
BEGIN:VEVENT
DTSTART;TZID=UTC:20260111T090000
DTEND;TZID=UTC:20260111T110000
UID:9BCEF896-7EDA-4B79-8B63-3AA9B93BA5F2
SUMMARY:Sprechtag des Vorstandes - für Ratenzahlung - 
CREATED:20250325T193807Z
DTSTAMP:20250325T193807Z
URL:https://gartenfreunde-west-rueckmarsdorf.de/index.php/kalender/sprechtag-des-vorstandes-fuer-ratenzahlung
LAST-MODIFIED:20251228T173933Z
SEQUENCE:24012086
X-ACCESS:1
X-HITS:84
X-COLOR:e6e6e6
X-SHOW-END-TIME:1
END:VEVENT
BEGIN:VEVENT
DTSTART;TZID=UTC:20260208T090000
DTEND;TZID=UTC:20260208T110000
UID:F5EC3F8A-43E3-46D8-A422-7B29F2555033
SUMMARY:Sprechtag des Vorstandes - für Ratenzahlung - 
CREATED:20250325T193807Z
DTSTAMP:20250325T193807Z
URL:https://gartenfreunde-west-rueckmarsdorf.de/index.php/kalender/sprechtag-des-vorstandes-fuer-ratenzahlung-2
LAST-MODIFIED:20251228T173948Z
SEQUENCE:24012101
X-ACCESS:1
X-HITS:190
X-COLOR:e6e6e6
X-SHOW-END-TIME:1
END:VEVENT
BEGIN:VEVENT
DTSTART;TZID=UTC:20260308T090000
DTEND;TZID=UTC:20260308T100000
UID:526EE1D8-B48B-4A95-8979-F04FC9D9D2C0
SUMMARY:Sprechtag des Vorstandes
CREATED:20250325T193807Z
DTSTAMP:20250325T193807Z
URL:https://gartenfreunde-west-rueckmarsdorf.de/index.php/kalender/sprechtag-des-vorstandes-9
LAST-MODIFIED:20251228T174050Z
SEQUENCE:24012163
X-ACCESS:1
X-HITS:252
X-COLOR:e6e6e6
X-SHOW-END-TIME:1
END:VEVENT
BEGIN:VEVENT
DTSTART;TZID=UTC:20260314T090000
DTEND;TZID=UTC:20260314T120000
UID:7C39193B-BDF0-46CD-B10C-91672FC424C6
SUMMARY:Annahme von Hecken- und Baumabschnitten *
CREATED:20250325T201556Z
DTSTAMP:20250325T201556Z
URL:https://gartenfreunde-west-rueckmarsdorf.de/index.php/kalender/annahme-von-hecken-und-baumabschnitten-2
DESCRIPTION:* Es erfolgt nur eine Annahme von Stämmen und Wurzeln. Es werden keine Grünabschnitte angenommen.
X-ALT-DESC;FMTTYPE=text/html:<p>* Es erfolgt nur eine Annahme von Stämmen und Wurzeln. Es werden keine Grünabschnitte angenommen.</p>
LAST-MODIFIED:20251228T163620Z
SEQUENCE:24006024
X-ACCESS:1
X-HITS:250
X-COLOR:a3ffac
X-SHOW-END-TIME:1
END:VEVENT
BEGIN:VEVENT
DTSTART;VALUE=DATE:20260320
DTEND;VALUE=DATE:20260321
UID:99C56926-BCA7-4ED9-951B-85920488F725
SUMMARY:!!! Den Einbau der Wasseruhren bitte nicht vergessen !!!
CREATED:20250325T201931Z
DTSTAMP:20250325T201931Z
URL:https://gartenfreunde-west-rueckmarsdorf.de/index.php/kalender/den-einbau-der-wasseruhren-bitte-nicht-vergessen
LAST-MODIFIED:20251228T164320Z
SEQUENCE:24006229
X-ACCESS:1
X-HITS:273
X-COLOR:ff0000
X-SHOW-END-TIME:1
END:VEVENT
BEGIN:VEVENT
DTSTART;TZID=UTC:20260321T100000
DTEND;TZID=UTC:20260321T140000
UID:784DD472-CF59-426E-995B-8AD2BE9E370B
SUMMARY:Zähler verplomben 1/2
CREATED:20250325T201931Z
DTSTAMP:20250325T201931Z
URL:https://gartenfreunde-west-rueckmarsdorf.de/index.php/kalender/zaehler-verplomben-1-2
LAST-MODIFIED:20251228T163936Z
SEQUENCE:24006005
X-ACCESS:1
X-HITS:220
X-COLOR:78b2fa
X-SHOW-END-TIME:1
END:VEVENT
BEGIN:VEVENT
DTSTART;TZID=UTC:20260322T100000
DTEND;TZID=UTC:20260322T120000
UID:B3BABF5F-8589-40A6-A80F-7BB9645379F8
SUMMARY:Zähler verplomben 2/2
CREATED:20250325T201931Z
DTSTAMP:20250325T201931Z
URL:https://gartenfreunde-west-rueckmarsdorf.de/index.php/kalender/zaehler-verplomben-2-2
LAST-MODIFIED:20251228T164016Z
SEQUENCE:24006045
X-ACCESS:1
X-HITS:139
X-COLOR:78b2fa
X-SHOW-END-TIME:1
END:VEVENT
BEGIN:VEVENT
DTSTART;TZID=UTC:20260329T100000
DTEND;TZID=UTC:20260329T120000
UID:71A38DD6-35F7-456C-8212-35E1D603FA15
SUMMARY:Osterfloristik
CREATED:20250325T200646Z
DTSTAMP:20250325T200646Z
URL:https://gartenfreunde-west-rueckmarsdorf.de/index.php/kalender/osterfloristik-3
LAST-MODIFIED:20251228T164437Z
SEQUENCE:24007071
X-ACCESS:1
X-HITS:106
X-COLOR:ffaa00
X-SHOW-END-TIME:1
END:VEVENT
BEGIN:VEVENT
DTSTART;TZID=UTC:20260412T090000
DTEND;TZID=UTC:20260412T100000
UID:5905EEEB-A83B-4F6B-BCDF-0A849D6C025B
SUMMARY:Sprechtag des Vorstandes
CREATED:20250325T193807Z
DTSTAMP:20250325T193807Z
URL:https://gartenfreunde-west-rueckmarsdorf.de/index.php/kalender/sprechtag-des-vorstandes-10
LAST-MODIFIED:20251228T174102Z
SEQUENCE:24012175
X-ACCESS:1
X-HITS:102
X-COLOR:e6e6e6
X-SHOW-END-TIME:1
END:VEVENT
BEGIN:VEVENT
DTSTART;TZID=UTC:20260509T100000
DTEND;TZID=UTC:20260509T120000
UID:939D233C-EE7F-40E8-B2A0-9A9604CE291D
SUMMARY:Mitgliederversammlung
CREATED:20250325T200123Z
DTSTAMP:20250325T200123Z
URL:https://gartenfreunde-west-rueckmarsdorf.de/index.php/kalender/mitgliederversammlung-3
LAST-MODIFIED:20251228T164657Z
SEQUENCE:24007534
X-ACCESS:1
X-HITS:117
X-COLOR:fffb00
X-SHOW-END-TIME:1
END:VEVENT
BEGIN:VEVENT
DTSTART;TZID=UTC:20260509T130000
DTEND;TZID=UTC:20260509T160000
UID:81658B61-3CCD-426F-836C-328505128FDF
SUMMARY:Angrillen vor dem Vereinshaus/ Trödelmarkt
CREATED:20250325T201008Z
DTSTAMP:20250325T201008Z
URL:https://gartenfreunde-west-rueckmarsdorf.de/index.php/kalender/angrillen-vor-dem-vereinshaus-troedelmarkt-2
LAST-MODIFIED:20251228T165122Z
SEQUENCE:24007274
X-ACCESS:1
X-HITS:124
X-COLOR:ff9933
X-SHOW-END-TIME:1
END:VEVENT
BEGIN:VEVENT
DTSTART;TZID=UTC:20260510T090000
DTEND;TZID=UTC:20260510T100000
UID:227262A7-13B0-4CB1-B577-7A7133D6B29F
SUMMARY:Sprechtag des Vorstandes
CREATED:20250325T193807Z
DTSTAMP:20250325T193807Z
URL:https://gartenfreunde-west-rueckmarsdorf.de/index.php/kalender/sprechtag-des-vorstandes-11
LAST-MODIFIED:20251228T174111Z
SEQUENCE:24012184
X-ACCESS:1
X-HITS:121
X-COLOR:e6e6e6
X-SHOW-END-TIME:1
END:VEVENT
BEGIN:VEVENT
DTSTART;TZID=UTC:20260614T090000
DTEND;TZID=UTC:20260614T100000
UID:A6E8C619-5973-4170-BF2D-1995CD943DFD
SUMMARY:Sprechtag des Vorstandes
CREATED:20250325T193807Z
DTSTAMP:20250325T193807Z
URL:https://gartenfreunde-west-rueckmarsdorf.de/index.php/kalender/sprechtag-des-vorstandes-12
LAST-MODIFIED:20251228T174121Z
SEQUENCE:24012194
X-ACCESS:1
X-HITS:101
X-COLOR:e6e6e6
X-SHOW-END-TIME:1
END:VEVENT
BEGIN:VEVENT
DTSTART;TZID=UTC:20260620T100000
DTEND;TZID=UTC:20260620T220000
UID:2556A096-F26D-4D7C-8CED-6DCFE9E60953
SUMMARY:Sommerfest - Unter Vorbehalt - 
CREATED:20250325T201008Z
DTSTAMP:20250325T201008Z
URL:https://gartenfreunde-west-rueckmarsdorf.de/index.php/kalender/sommerfest-unter-vorbehalt
LAST-MODIFIED:20251228T165319Z
SEQUENCE:24007391
X-ACCESS:1
X-HITS:51
X-COLOR:ff9933
X-SHOW-END-TIME:1
END:VEVENT
BEGIN:VEVENT
DTSTART;TZID=UTC:20260712T090000
DTEND;TZID=UTC:20260712T100000
UID:7A15C88D-D3B2-4DFD-A421-94EE5FEEBE86
SUMMARY:Sprechtag des Vorstandes
CREATED:20250325T193807Z
DTSTAMP:20250325T193807Z
URL:https://gartenfreunde-west-rueckmarsdorf.de/index.php/kalender/sprechtag-des-vorstandes-13
LAST-MODIFIED:20251228T174134Z
SEQUENCE:24012207
X-ACCESS:1
X-HITS:9
X-COLOR:e6e6e6
X-SHOW-END-TIME:1
END:VEVENT
BEGIN:VEVENT
DTSTART;TZID=UTC:20260816T090000
DTEND;TZID=UTC:20260816T100000
UID:74A9DFAB-52E0-45A6-827B-2D77AC779AD5
SUMMARY:Sprechtag des Vorstandes
CREATED:20250325T193807Z
DTSTAMP:20250325T193807Z
URL:https://gartenfreunde-west-rueckmarsdorf.de/index.php/kalender/sprechtag-des-vorstandes-14
LAST-MODIFIED:20251228T174156Z
SEQUENCE:24012229
X-ACCESS:1
X-HITS:5
X-COLOR:e6e6e6
X-SHOW-END-TIME:1
END:VEVENT
BEGIN:VEVENT
DTSTART;TZID=UTC:20260913T090000
DTEND;TZID=UTC:20260913T100000
UID:51DE4406-DCA5-436A-B087-3BDF960935B0
SUMMARY:Sprechtag des Vorstandes
CREATED:20250325T193807Z
DTSTAMP:20250325T193807Z
URL:https://gartenfreunde-west-rueckmarsdorf.de/index.php/kalender/sprechtag-des-vorstandes-15
LAST-MODIFIED:20251228T174204Z
SEQUENCE:24012237
X-ACCESS:1
X-HITS:10
X-COLOR:e6e6e6
X-SHOW-END-TIME:1
END:VEVENT
BEGIN:VEVENT
DTSTART;TZID=UTC:20261010T100000
DTEND;TZID=UTC:20261010T130000
UID:20E04DA7-AAEC-4072-9964-87B04BE43F9D
SUMMARY:Herbstfeuer mit Abgrillen
CREATED:20251228T201008Z
DTSTAMP:20251228T201008Z
URL:https://gartenfreunde-west-rueckmarsdorf.de/index.php/kalender/herbstfeuer-mit-abgrillen-2
LAST-MODIFIED:20251228T172619Z
SEQUENCE:-9829
X-ACCESS:1
X-HITS:11
X-COLOR:ff9933
X-SHOW-END-TIME:1
X-PUBLISH-UP:2025-12-26 18:18:12
END:VEVENT
BEGIN:VEVENT
DTSTART;TZID=UTC:20261011T090000
DTEND;TZID=UTC:20261011T100000
UID:77E72F89-23A6-4B0A-BDAD-CE8B3FF518FD
SUMMARY:Sprechtag des Vorstandes
CREATED:20250325T193807Z
DTSTAMP:20250325T193807Z
URL:https://gartenfreunde-west-rueckmarsdorf.de/index.php/kalender/sprechtag-des-vorstandes-16
LAST-MODIFIED:20251228T174217Z
SEQUENCE:24012250
X-ACCESS:1
X-HITS:7
X-COLOR:e6e6e6
X-SHOW-END-TIME:1
END:VEVENT
BEGIN:VEVENT
DTSTART;TZID=UTC:20261017T100000
DTEND;TZID=UTC:20261017T120000
UID:886E19B9-1E2C-4348-A796-2C538D2AFEF1
SUMMARY:Mitgliederversammlung
CREATED:20250325T200123Z
DTSTAMP:20250325T200123Z
URL:https://gartenfreunde-west-rueckmarsdorf.de/index.php/kalender/mitgliederversammlung-4
LAST-MODIFIED:20251228T165921Z
SEQUENCE:24008278
X-ACCESS:1
X-HITS:7
X-COLOR:fffb00
X-SHOW-END-TIME:1
END:VEVENT
BEGIN:VEVENT
DTSTART;TZID=UTC:20261024T100000
DTEND;TZID=UTC:20261024T130000
UID:51A3F00D-37D5-4A15-8B87-6FE4C818A102
SUMMARY:Annahme von Hecken- und Baumabschnitten *
CREATED:20250325T201556Z
DTSTAMP:20250325T201556Z
URL:https://gartenfreunde-west-rueckmarsdorf.de/index.php/kalender/annahme-von-hecken-und-baumabschnitten-3
DESCRIPTION:* Es erfolgt nur eine Annahme von Stämmen und Wurzeln. Es werden keine Grünabschnitte angenommen.
X-ALT-DESC;FMTTYPE=text/html:<p>* Es erfolgt nur eine Annahme von Stämmen und Wurzeln. Es werden keine Grünabschnitte angenommen.</p>
LAST-MODIFIED:20251228T172832Z
SEQUENCE:24009156
X-ACCESS:1
X-HITS:0
X-COLOR:a3ffac
X-SHOW-END-TIME:1
END:VEVENT
BEGIN:VEVENT
DTSTART;TZID=UTC:20261024T100000
DTEND;TZID=UTC:20261024T140000
UID:C3B210C3-AA94-4BEB-8FBD-8F37C8FA12FE
SUMMARY:Zähler ablesen 1/2
CREATED:20250325T201931Z
DTSTAMP:20250325T201931Z
URL:https://gartenfreunde-west-rueckmarsdorf.de/index.php/kalender/zaehler-ablesen-1-3
LAST-MODIFIED:20251228T173131Z
SEQUENCE:24009120
X-ACCESS:1
X-HITS:1
X-COLOR:78b2fa
X-SHOW-END-TIME:1
END:VEVENT
BEGIN:VEVENT
DTSTART;TZID=UTC:20261025T100000
DTEND;TZID=UTC:20261025T120000
UID:352E72A0-DF14-4CBF-BBCB-5AF7A8BD3E98
SUMMARY:Zähler ablesen 2/2
CREATED:20250325T201931Z
DTSTAMP:20250325T201931Z
URL:https://gartenfreunde-west-rueckmarsdorf.de/index.php/kalender/zaehler-ablesen-2-3
LAST-MODIFIED:20251228T173434Z
SEQUENCE:24009303
X-ACCESS:1
X-HITS:0
X-COLOR:78b2fa
X-SHOW-END-TIME:1
END:VEVENT
BEGIN:VEVENT
DTSTART;TZID=UTC:20261122T090000
DTEND;TZID=UTC:20261122T100000
UID:A00F07D6-DA15-4FE7-8619-676BE05D500B
SUMMARY:Sprechtag des Vorstandes
CREATED:20250325T193807Z
DTSTAMP:20250325T193807Z
URL:https://gartenfreunde-west-rueckmarsdorf.de/index.php/kalender/sprechtag-des-vorstandes-17
LAST-MODIFIED:20251228T174229Z
SEQUENCE:24012262
X-ACCESS:1
X-HITS:5
X-COLOR:e6e6e6
X-SHOW-END-TIME:1
END:VEVENT
BEGIN:VEVENT
DTSTART;TZID=UTC:20261129T100000
DTEND;TZID=UTC:20261129T120000
UID:BE028CA0-60E8-436D-85C9-602D3A07CB62
SUMMARY:Weihnachtsfloristik
CREATED:20250325T200646Z
DTSTAMP:20250325T200646Z
URL:https://gartenfreunde-west-rueckmarsdorf.de/index.php/kalender/weihnachtsfloristik-2
LAST-MODIFIED:20251228T173558Z
SEQUENCE:24010152
X-ACCESS:1
X-HITS:4
X-COLOR:ffaa00
X-SHOW-END-TIME:1
END:VEVENT
BEGIN:VEVENT
DTSTART;TZID=UTC:20261129T140000
DTEND;TZID=UTC:20261129T160000
UID:82838E56-099E-4962-B947-3A420C9D0FF6
SUMMARY:Kinderweihnachtsfeier
CREATED:20250325T200646Z
DTSTAMP:20250325T200646Z
URL:https://gartenfreunde-west-rueckmarsdorf.de/index.php/kalender/kinderweihnachtsfeier-3
LAST-MODIFIED:20251228T173721Z
SEQUENCE:24010235
X-ACCESS:1
X-HITS:0
X-COLOR:ffaa00
X-SHOW-END-TIME:1
END:VEVENT
END:VCALENDAR